BEGIN:VCALENDAR
VERSION:2.0
PRODID:-//IST - ECPv6.15.20//NONSGML v1.0//EN
CALSCALE:GREGORIAN
METHOD:PUBLISH
X-ORIGINAL-URL:https://internationalschooltwente.nl
X-WR-CALDESC:Events for IST
REFRESH-INTERVAL;VALUE=DURATION:PT1H
X-Robots-Tag:noindex
X-PUBLISHED-TTL:PT1H
BEGIN:VTIMEZONE
TZID:Europe/Amsterdam
BEGIN:DAYLIGHT
TZOFFSETFROM:+0100
TZOFFSETTO:+0200
TZNAME:CEST
DTSTART:20240331T010000
END:DAYLIGHT
BEGIN:STANDARD
TZOFFSETFROM:+0200
TZOFFSETTO:+0100
TZNAME:CET
DTSTART:20241027T010000
END:STANDARD
BEGIN:DAYLIGHT
TZOFFSETFROM:+0100
TZOFFSETTO:+0200
TZNAME:CEST
DTSTART:20250330T010000
END:DAYLIGHT
BEGIN:STANDARD
TZOFFSETFROM:+0200
TZOFFSETTO:+0100
TZNAME:CET
DTSTART:20251026T010000
END:STANDARD
BEGIN:DAYLIGHT
TZOFFSETFROM:+0100
TZOFFSETTO:+0200
TZNAME:CEST
DTSTART:20260329T010000
END:DAYLIGHT
BEGIN:STANDARD
TZOFFSETFROM:+0200
TZOFFSETTO:+0100
TZNAME:CET
DTSTART:20261025T010000
END:STANDARD
END:VTIMEZONE
BEGIN:VEVENT
DTSTART;TZID=Europe/Amsterdam:20250714T080000
DTEND;TZID=Europe/Amsterdam:20250822T170000
DTSTAMP:20260422T201807
CREATED:20240710T082021Z
LAST-MODIFIED:20240710T082021Z
UID:3580-1752480000-1755882000@internationalschooltwente.nl
SUMMARY:Summer Holiday
DESCRIPTION:
URL:https://internationalschooltwente.nl/event/summer-holiday-4/
CATEGORIES:Primary school,Secondary school
END:VEVENT
BEGIN:VEVENT
DTSTART;TZID=Europe/Amsterdam:20250825T020000
DTEND;TZID=Europe/Amsterdam:20250825T230000
DTSTAMP:20260422T201807
CREATED:20250701T155712Z
LAST-MODIFIED:20250701T155736Z
UID:3964-1756087200-1756162800@internationalschooltwente.nl
SUMMARY:Study Day Primary
DESCRIPTION:
URL:https://internationalschooltwente.nl/event/study-day-primary-2/
CATEGORIES:Primary school
END:VEVENT
END:VCALENDAR