BEGIN:VCALENDAR
VERSION:2.0
PRODID:-//IST - ECPv6.15.20//NONSGML v1.0//EN
CALSCALE:GREGORIAN
METHOD:PUBLISH
X-ORIGINAL-URL:https://internationalschooltwente.nl
X-WR-CALDESC:Events for IST
REFRESH-INTERVAL;VALUE=DURATION:PT1H
X-Robots-Tag:noindex
X-PUBLISHED-TTL:PT1H
BEGIN:VTIMEZONE
TZID:Europe/Amsterdam
BEGIN:DAYLIGHT
TZOFFSETFROM:+0100
TZOFFSETTO:+0200
TZNAME:CEST
DTSTART:20240331T010000
END:DAYLIGHT
BEGIN:STANDARD
TZOFFSETFROM:+0200
TZOFFSETTO:+0100
TZNAME:CET
DTSTART:20241027T010000
END:STANDARD
BEGIN:DAYLIGHT
TZOFFSETFROM:+0100
TZOFFSETTO:+0200
TZNAME:CEST
DTSTART:20250330T010000
END:DAYLIGHT
BEGIN:STANDARD
TZOFFSETFROM:+0200
TZOFFSETTO:+0100
TZNAME:CET
DTSTART:20251026T010000
END:STANDARD
BEGIN:DAYLIGHT
TZOFFSETFROM:+0100
TZOFFSETTO:+0200
TZNAME:CEST
DTSTART:20260329T010000
END:DAYLIGHT
BEGIN:STANDARD
TZOFFSETFROM:+0200
TZOFFSETTO:+0100
TZNAME:CET
DTSTART:20261025T010000
END:STANDARD
END:VTIMEZONE
BEGIN:VEVENT
DTSTART;TZID=Europe/Amsterdam:20251009T020000
DTEND;TZID=Europe/Amsterdam:20251009T230000
DTSTAMP:20260422T173839
CREATED:20250701T155927Z
LAST-MODIFIED:20250816T135437Z
UID:3969-1759975200-1760050800@internationalschooltwente.nl
SUMMARY:Study Day Primary
DESCRIPTION:
URL:https://internationalschooltwente.nl/event/study-day-primary-3/
CATEGORIES:Primary school
END:VEVENT
BEGIN:VEVENT
DTSTART;TZID=Europe/Amsterdam:20251020T020000
DTEND;TZID=Europe/Amsterdam:20251024T210000
DTSTAMP:20260422T173839
CREATED:20250702T122757Z
LAST-MODIFIED:20250702T122805Z
UID:3992-1760925600-1761339600@internationalschooltwente.nl
SUMMARY:Autumn Holiday
DESCRIPTION:
URL:https://internationalschooltwente.nl/event/autumn-holiday/
CATEGORIES:Primary school,Secondary school
END:VEVENT
BEGIN:VEVENT
DTSTART;TZID=Europe/Amsterdam:20251028T030000
DTEND;TZID=Europe/Amsterdam:20251028T230000
DTSTAMP:20260422T173839
CREATED:20250701T160144Z
LAST-MODIFIED:20250701T160144Z
UID:3975-1761620400-1761692400@internationalschooltwente.nl
SUMMARY:School Photos Primary
DESCRIPTION:
URL:https://internationalschooltwente.nl/event/school-photos-primary/
CATEGORIES:Primary school
END:VEVENT
END:VCALENDAR