BEGIN:VCALENDAR
VERSION:2.0
PRODID:-//IST - ECPv6.15.20//NONSGML v1.0//EN
CALSCALE:GREGORIAN
METHOD:PUBLISH
X-WR-CALNAME:IST
X-ORIGINAL-URL:https://internationalschooltwente.nl
X-WR-CALDESC:Events for IST
REFRESH-INTERVAL;VALUE=DURATION:PT1H
X-Robots-Tag:noindex
X-PUBLISHED-TTL:PT1H
BEGIN:VTIMEZONE
TZID:Europe/Amsterdam
BEGIN:DAYLIGHT
TZOFFSETFROM:+0100
TZOFFSETTO:+0200
TZNAME:CEST
DTSTART:20240331T010000
END:DAYLIGHT
BEGIN:STANDARD
TZOFFSETFROM:+0200
TZOFFSETTO:+0100
TZNAME:CET
DTSTART:20241027T010000
END:STANDARD
BEGIN:DAYLIGHT
TZOFFSETFROM:+0100
TZOFFSETTO:+0200
TZNAME:CEST
DTSTART:20250330T010000
END:DAYLIGHT
BEGIN:STANDARD
TZOFFSETFROM:+0200
TZOFFSETTO:+0100
TZNAME:CET
DTSTART:20251026T010000
END:STANDARD
BEGIN:DAYLIGHT
TZOFFSETFROM:+0100
TZOFFSETTO:+0200
TZNAME:CEST
DTSTART:20260329T010000
END:DAYLIGHT
BEGIN:STANDARD
TZOFFSETFROM:+0200
TZOFFSETTO:+0100
TZNAME:CET
DTSTART:20261025T010000
END:STANDARD
END:VTIMEZONE
BEGIN:VEVENT
DTSTART;TZID=Europe/Amsterdam:20251121T030000
DTEND;TZID=Europe/Amsterdam:20251121T230000
DTSTAMP:20260422T160857
CREATED:20250701T160045Z
LAST-MODIFIED:20250701T160045Z
UID:3973-1763694000-1763766000@internationalschooltwente.nl
SUMMARY:Term 1 Reports Out Primary
DESCRIPTION:
URL:https://internationalschooltwente.nl/event/term-1-reports-out-primary/
CATEGORIES:Primary school
END:VEVENT
BEGIN:VEVENT
DTSTART;TZID=Europe/Amsterdam:20251125T020000
DTEND;TZID=Europe/Amsterdam:20251126T210000
DTSTAMP:20260422T160857
CREATED:20250702T115424Z
LAST-MODIFIED:20250702T115424Z
UID:3982-1764036000-1764190800@internationalschooltwente.nl
SUMMARY:Primary Report Conversations
DESCRIPTION:
URL:https://internationalschooltwente.nl/event/primary-report-conversations/
CATEGORIES:Primary school
END:VEVENT
END:VCALENDAR